BEGIN:VCALENDAR
VERSION:2.0
PRODID:gbd.georgia.gov
X-WR-TIMEZONE:America/New_York
BEGIN:VTIMEZONE
TZID:America/New_York
X-LIC-LOCATION:America/New_York
END:VTIMEZONE
BEGIN:VEVENT
UID:614e64f49318c
DTSTART;TZID=UTC:20160729T131500
SEQUENCE:0
TRANSP:OPAQUE
DTEND;TZID=UTC:20160729T131500
URL:https://gbd.georgia.gov/events/2016-07-29/dental-board-investigative-co
 mmittee-meeting
LOCATION:2 Peachtree Street\, 36th Floor ATLANTA\, GA 30303
SUMMARY:Dental Board Investigative Committee Meeting
CLASS:PUBLIC
DTSTAMP:20210924T195324Z
END:VEVENT
END:VCALENDAR