BEGIN:VCALENDAR
VERSION:2.0
PRODID:gbd.georgia.gov
X-WR-TIMEZONE:America/New_York
BEGIN:VTIMEZONE
TZID:America/New_York
X-LIC-LOCATION:America/New_York
END:VTIMEZONE
BEGIN:VEVENT
UID:614e64fa99501
DTSTART;TZID=UTC:20160610T130000
SEQUENCE:0
TRANSP:OPAQUE
DTEND;TZID=UTC:20160610T130000
URL:https://gbd.georgia.gov/events/2016-06-10/licensure-overview-committee-
 meeting
LOCATION:2 Peachtree Street\, 6th Floor ATLANTA\, GA 30303
SUMMARY:Licensure Overview Committee Meeting
CLASS:PUBLIC
DTSTAMP:20210924T195330Z
END:VEVENT
END:VCALENDAR