BEGIN:VCALENDAR
PRODID:gbd.georgia.gov
VERSION:2.0
CALSCALE:GREGORIAN
BEGIN:VEVENT
UID:e70f5fc2f8b63282792a4501160a669f
DTSTAMP:20260424T210225Z
SUMMARY:Licensure Overview Committee Meeting
URL:https://gbd.georgia.gov/events/2016-03-18/licensure-overview-committee-
 meeting
DTSTART;VALUE=DATE:20160318
DTEND;VALUE=DATE:20160319
LOCATION:2 Peachtree Street\, 36th Floor  Atlanta\, GA 30303 US
X-LIC-LOCATION:America/New_York
X-WR-TIMEZONE:America/New_York
END:VEVENT
BEGIN:VTIMEZONE
TZID:America/New_York
END:VTIMEZONE
END:VCALENDAR
