BEGIN:VCALENDAR
PRODID:gbd.georgia.gov
VERSION:2.0
CALSCALE:GREGORIAN
BEGIN:VEVENT
UID:b9b1b088a537db99fd0a2378bca4e4cb
DTSTAMP:20260424T205714Z
SUMMARY:Licensure Overview Committee Meeting
URL:https://gbd.georgia.gov/events/2019-10-11/licensure-overview-committee-
 meeting
DTSTART;VALUE=DATE:20191011
DTEND;VALUE=DATE:20191012
LOCATION:1430 John Wesley Gilbert Drive  Augusta \, GA 30912 US
X-LIC-LOCATION:America/New_York
X-WR-TIMEZONE:America/New_York
END:VEVENT
BEGIN:VTIMEZONE
TZID:America/New_York
END:VTIMEZONE
END:VCALENDAR
