BEGIN:VCALENDAR
PRODID:gbd.georgia.gov
VERSION:2.0
CALSCALE:GREGORIAN
BEGIN:VEVENT
UID:e63fdba27e020685f3916e1e1688b44d
DTSTAMP:20260424T205714Z
SUMMARY:Dental Board Investigative Committee Meeting
URL:https://gbd.georgia.gov/events/2019-09-20/dental-board-investigative-co
 mmittee-meeting
DTSTART;VALUE=DATE:20190920
DTEND;VALUE=DATE:20190921
LOCATION:2 Peachtree NW 5th Floor   Atlanta\, GA 30303 US
X-LIC-LOCATION:America/New_York
X-WR-TIMEZONE:America/New_York
END:VEVENT
BEGIN:VTIMEZONE
TZID:America/New_York
END:VTIMEZONE
END:VCALENDAR
