BEGIN:VCALENDAR
PRODID:gbd.georgia.gov
VERSION:2.0
CALSCALE:GREGORIAN
BEGIN:VEVENT
UID:b559ce5542cf5812b99b77d99ee28d2a
DTSTAMP:20260424T205714Z
SUMMARY:Dental Board Conference Call
URL:https://gbd.georgia.gov/events/2019-08-09/dental-board-conference-call
DTSTART;VALUE=DATE:20190809
LOCATION:2 Peachtree St\, NW\, 5th Floor  Atlanta\, GA 30303 US
X-LIC-LOCATION:America/New_York
X-WR-TIMEZONE:America/New_York
END:VEVENT
BEGIN:VTIMEZONE
TZID:America/New_York
END:VTIMEZONE
END:VCALENDAR
