BEGIN:VCALENDAR
PRODID:gbd.georgia.gov
VERSION:2.0
CALSCALE:GREGORIAN
BEGIN:VEVENT
UID:c9e802b24a0a99488b3d43d87c0b0d5e
DTSTAMP:20260422T104337Z
SUMMARY:Dental Hygiene Committee 
DESCRIPTION:AGENDA - Posted 04/21/26\n\nJoin the meeting\n\nMeeting ID: 246
  825 195 146 368Passcode: 2St6de7a\n\nDial in by phone1 470-344-9228\,\,20
 5307633# United States\, AtlantaFind a local numberPhone conference ID: 2
 05 307 633# \n\nUse of AI note-taking tools is prohibited in state of Geo
 rgia Microsoft Teams meetings. Any violations will be reviewed with the in
 dividual attempting to arrange such use.
URL:https://gbd.georgia.gov/events/2026-05-05/dental-hygiene-committee
DTSTART;VALUE=DATE:20260505
DTEND;VALUE=DATE:20260506
X-LIC-LOCATION:America/New_York
X-WR-TIMEZONE:America/New_York
END:VEVENT
BEGIN:VTIMEZONE
TZID:America/New_York
END:VTIMEZONE
END:VCALENDAR
