BEGIN:VCALENDAR
VERSION:2.0
PRODID:gbd.georgia.gov
X-WR-TIMEZONE:America/New_York
BEGIN:VTIMEZONE
TZID:America/New_York
X-LIC-LOCATION:America/New_York
END:VTIMEZONE
BEGIN:VEVENT
UID:614b433a9b87a
DTSTART;TZID=UTC:20210326T140000
SEQUENCE:0
TRANSP:OPAQUE
URL:https://gbd.georgia.gov/events/2021-03-26/rules-committee-meeting-telec
 onference
LOCATION:2 Peachtree Street\, 6th Floor ATLANTA\, GA 30303
SUMMARY:Rules Committee Meeting Teleconference
CLASS:PUBLIC
DTSTAMP:20210922T105242Z
END:VEVENT
END:VCALENDAR