BEGIN:VCALENDAR
PRODID:gbd.georgia.gov
VERSION:2.0
CALSCALE:GREGORIAN
BEGIN:VEVENT
UID:713f13cdcfced28519d5fa2da97afb1f
DTSTAMP:20260424T205714Z
SUMMARY:Dental Board Emergency Conference Call
URL:https://gbd.georgia.gov/events/2020-08-17/dental-board-emergency-confer
 ence-call
DTSTART;VALUE=DATE:20200817
LOCATION:2 Peachtree NW 6th Floor  Atlanta\, GA 30303 US
X-LIC-LOCATION:America/New_York
X-WR-TIMEZONE:America/New_York
END:VEVENT
BEGIN:VTIMEZONE
TZID:America/New_York
END:VTIMEZONE
END:VCALENDAR
