BEGIN:VCALENDAR
VERSION:2.0
PRODID:gbd.georgia.gov
X-WR-TIMEZONE:America/New_York
BEGIN:VTIMEZONE
TZID:America/New_York
X-LIC-LOCATION:America/New_York
END:VTIMEZONE
BEGIN:VEVENT
UID:608efa0f8e9b5
DTSTART;TZID=UTC:20201204T140000
SEQUENCE:0
TRANSP:OPAQUE
URL:https://gbd.georgia.gov/events/2020-12-04/licensure-overview-committee-
 meeting
LOCATION:2 Peachtree NW 6th Floor ATLANTA\, GA 30303
SUMMARY:Licensure Overview Committee Meeting
CLASS:PUBLIC
DTSTAMP:20210502T151423Z
END:VEVENT
END:VCALENDAR