BEGIN:VCALENDAR
PRODID:gbd.georgia.gov
VERSION:2.0
CALSCALE:GREGORIAN
BEGIN:VEVENT
UID:2dbe601ae49c49a2f2053f21da39eecb
DTSTAMP:20260424T205714Z
SUMMARY:Dental Board Investigative Committee Meeting
URL:https://gbd.georgia.gov/events/2020-10-02/dental-board-investigative-co
 mmittee-meeting
DTSTART;VALUE=DATE:20201002
LOCATION:2 Peachtree NW 6th Floor  Atlanta\, GA 30303 US
X-LIC-LOCATION:America/New_York
X-WR-TIMEZONE:America/New_York
END:VEVENT
BEGIN:VTIMEZONE
TZID:America/New_York
END:VTIMEZONE
END:VCALENDAR
