BEGIN:VCALENDAR
VERSION:2.0
PRODID:gbd.georgia.gov
X-WR-TIMEZONE:America/New_York
BEGIN:VTIMEZONE
TZID:America/New_York
X-LIC-LOCATION:America/New_York
END:VTIMEZONE
BEGIN:VEVENT
UID:608f3c991779d
DTSTART;TZID=UTC:20200911T140000
SEQUENCE:0
TRANSP:OPAQUE
URL:https://gbd.georgia.gov/events/2020-09-11/georgia-board-dentistry-confe
 rence-call
LOCATION:2 Peachtree NW 6th Floor ATLANTA\, GA 30303
SUMMARY:Georgia Board of Dentistry Conference Call
CLASS:PUBLIC
DTSTAMP:20210502T195817Z
END:VEVENT
END:VCALENDAR