BEGIN:VCALENDAR
PRODID:gbd.georgia.gov
VERSION:2.0
CALSCALE:GREGORIAN
BEGIN:VEVENT
UID:98c793727a04e10d4054ac9b2f3d969d
DTSTAMP:20260424T210225Z
SUMMARY:Licensure Overview Committee Meeting
URL:https://gbd.georgia.gov/events/2020-09-11/licensure-overview-committee-
 meeting
DTSTART;VALUE=DATE:20200911
LOCATION:2 Peachtree NW 6th Floor  Atlanta\, GA 30303 US
X-LIC-LOCATION:America/New_York
X-WR-TIMEZONE:America/New_York
END:VEVENT
BEGIN:VTIMEZONE
TZID:America/New_York
END:VTIMEZONE
END:VCALENDAR
