BEGIN:VCALENDAR
PRODID:gbd.georgia.gov
VERSION:2.0
CALSCALE:GREGORIAN
BEGIN:VEVENT
UID:7d6537beb3fb2fad213cc38af33dc104
DTSTAMP:20260424T210225Z
SUMMARY:Georgia Board of Dentistry Conference Call
URL:https://gbd.georgia.gov/events/2020-08-14/georgia-board-dentistry-confe
 rence-call
DTSTART;VALUE=DATE:20200814
LOCATION:2 Peachtree NW 6th Floor  Atlanta\, GA 30303 US
X-LIC-LOCATION:America/New_York
X-WR-TIMEZONE:America/New_York
END:VEVENT
BEGIN:VTIMEZONE
TZID:America/New_York
END:VTIMEZONE
END:VCALENDAR
