BEGIN:VCALENDAR
VERSION:2.0
PRODID:gbd.georgia.gov
X-WR-TIMEZONE:America/New_York
BEGIN:VTIMEZONE
TZID:America/New_York
X-LIC-LOCATION:America/New_York
END:VTIMEZONE
BEGIN:VEVENT
UID:614d0910e225e
DTSTART;TZID=UTC:20200501T120000
SEQUENCE:0
TRANSP:OPAQUE
URL:https://gbd.georgia.gov/events/2020-05-01/dental-board-investigative-co
 mmittee-meeting
LOCATION:2 Peachtree NW 6th Floor ATLANTA\, GA 30303
SUMMARY:Dental Board Investigative Committee Meeting
CLASS:PUBLIC
DTSTAMP:20210923T190904Z
END:VEVENT
END:VCALENDAR