BEGIN:VCALENDAR
VERSION:2.0
PRODID:gbd.georgia.gov
X-WR-TIMEZONE:America/New_York
BEGIN:VTIMEZONE
TZID:America/New_York
X-LIC-LOCATION:America/New_York
END:VTIMEZONE
BEGIN:VEVENT
UID:614d0915bff9a
DTSTART;TZID=UTC:20200403T140000
SEQUENCE:0
TRANSP:OPAQUE
URL:https://gbd.georgia.gov/events/2020-04-03/georgia-board-dentistry-meeti
 ng-conference-call
LOCATION:2 Peachtree NW 6th Floor ATLANTA\, GA 30303
SUMMARY:Georgia Board of Dentistry Meeting Conference Call
CLASS:PUBLIC
DTSTAMP:20210923T190909Z
END:VEVENT
END:VCALENDAR