BEGIN:VCALENDAR
VERSION:2.0
PRODID:gbd.georgia.gov
X-WR-TIMEZONE:America/New_York
BEGIN:VTIMEZONE
TZID:America/New_York
X-LIC-LOCATION:America/New_York
END:VTIMEZONE
BEGIN:VEVENT
UID:614d72d09e4a7
DTSTART;TZID=UTC:20200110T123000
SEQUENCE:0
TRANSP:OPAQUE
URL:https://gbd.georgia.gov/events/2020-01-10/dental-board-investigative-co
 mmittee-meeting
LOCATION:2 Peachtree NW 6th Floor ATLANTA\, GA 30303
SUMMARY:Dental Board Investigative Committee Meeting
CLASS:PUBLIC
DTSTAMP:20210924T024016Z
END:VEVENT
END:VCALENDAR