BEGIN:VCALENDAR
PRODID:gbd.georgia.gov
VERSION:2.0
CALSCALE:GREGORIAN
BEGIN:VEVENT
UID:83de9a71c7d79cf8fa94020c02701f85
DTSTAMP:20260424T203711Z
SUMMARY:Dental Board Meeting
URL:https://gbd.georgia.gov/events/2019-10-11/dental-board-meeting
DTSTART;VALUE=DATE:20191011
LOCATION:The Dental College of Georgia at Augusta University  1430 John Wes
 ley Gilbert Drive   Augusta \, GA 30912 US
X-LIC-LOCATION:America/New_York
X-WR-TIMEZONE:America/New_York
END:VEVENT
BEGIN:VTIMEZONE
TZID:America/New_York
END:VTIMEZONE
END:VCALENDAR
